BEGIN:VCALENDAR
VERSION:2.0
PRODID:-//Tauchteam Karlsruhe e.V. - ECPv6.15.20//NONSGML v1.0//EN
CALSCALE:GREGORIAN
METHOD:PUBLISH
X-WR-CALNAME:Tauchteam Karlsruhe e.V.
X-ORIGINAL-URL:https://tauchteam-karlsruhe.de
X-WR-CALDESC:Veranstaltungen für Tauchteam Karlsruhe e.V.
REFRESH-INTERVAL;VALUE=DURATION:PT1H
X-Robots-Tag:noindex
X-PUBLISHED-TTL:PT1H
BEGIN:VTIMEZONE
TZID:Europe/Berlin
BEGIN:DAYLIGHT
TZOFFSETFROM:+0100
TZOFFSETTO:+0200
TZNAME:CEST
DTSTART:20240331T010000
END:DAYLIGHT
BEGIN:STANDARD
TZOFFSETFROM:+0200
TZOFFSETTO:+0100
TZNAME:CET
DTSTART:20241027T010000
END:STANDARD
BEGIN:DAYLIGHT
TZOFFSETFROM:+0100
TZOFFSETTO:+0200
TZNAME:CEST
DTSTART:20250330T010000
END:DAYLIGHT
BEGIN:STANDARD
TZOFFSETFROM:+0200
TZOFFSETTO:+0100
TZNAME:CET
DTSTART:20251026T010000
END:STANDARD
BEGIN:DAYLIGHT
TZOFFSETFROM:+0100
TZOFFSETTO:+0200
TZNAME:CEST
DTSTART:20260329T010000
END:DAYLIGHT
BEGIN:STANDARD
TZOFFSETFROM:+0200
TZOFFSETTO:+0100
TZNAME:CET
DTSTART:20261025T010000
END:STANDARD
END:VTIMEZONE
BEGIN:VEVENT
DTSTART;TZID=Europe/Berlin:20250810T100000
DTEND;TZID=Europe/Berlin:20250810T140000
DTSTAMP:20260420T205650
CREATED:20251219T131310Z
LAST-MODIFIED:20251219T131310Z
UID:6980-1754820000-1754834400@tauchteam-karlsruhe.de
SUMMARY:Jubiläum Tauchteam Karlsruhe e.V.
DESCRIPTION:  \nTut uns leid\, aber dieser Inhalt ist nur für Mitglieder zugänglich. \n  \n\n 
URL:https://tauchteam-karlsruhe.de/event/jubilaeum-tauchteam-karlsruhe-e-v/
CATEGORIES:Event
END:VEVENT
END:VCALENDAR