BEGIN:VCALENDAR
VERSION:2.0
PRODID:-//Tauchteam Karlsruhe e.V. - ECPv6.15.20//NONSGML v1.0//EN
CALSCALE:GREGORIAN
METHOD:PUBLISH
X-WR-CALNAME:Tauchteam Karlsruhe e.V.
X-ORIGINAL-URL:https://tauchteam-karlsruhe.de
X-WR-CALDESC:Veranstaltungen für Tauchteam Karlsruhe e.V.
REFRESH-INTERVAL;VALUE=DURATION:PT1H
X-Robots-Tag:noindex
X-PUBLISHED-TTL:PT1H
BEGIN:VTIMEZONE
TZID:Europe/Berlin
BEGIN:DAYLIGHT
TZOFFSETFROM:+0100
TZOFFSETTO:+0200
TZNAME:CEST
DTSTART:20240331T010000
END:DAYLIGHT
BEGIN:STANDARD
TZOFFSETFROM:+0200
TZOFFSETTO:+0100
TZNAME:CET
DTSTART:20241027T010000
END:STANDARD
BEGIN:DAYLIGHT
TZOFFSETFROM:+0100
TZOFFSETTO:+0200
TZNAME:CEST
DTSTART:20250330T010000
END:DAYLIGHT
BEGIN:STANDARD
TZOFFSETFROM:+0200
TZOFFSETTO:+0100
TZNAME:CET
DTSTART:20251026T010000
END:STANDARD
BEGIN:DAYLIGHT
TZOFFSETFROM:+0100
TZOFFSETTO:+0200
TZNAME:CEST
DTSTART:20260329T010000
END:DAYLIGHT
BEGIN:STANDARD
TZOFFSETFROM:+0200
TZOFFSETTO:+0100
TZNAME:CET
DTSTART:20261025T010000
END:STANDARD
END:VTIMEZONE
BEGIN:VEVENT
DTSTART;TZID=Europe/Berlin:20250803T100000
DTEND;TZID=Europe/Berlin:20250803T190000
DTSTAMP:20260421T055540
CREATED:20250610T101802Z
LAST-MODIFIED:20250610T101802Z
UID:6689-1754215200-1754247600@tauchteam-karlsruhe.de
SUMMARY:Rettungsdienst
DESCRIPTION:
URL:https://tauchteam-karlsruhe.de/event/rettungsdienst/
LOCATION:Heidesee Forst\, Am Heidesee 1\, Forst\, 76694\, Deutschland
END:VEVENT
END:VCALENDAR