BEGIN:VCALENDAR
VERSION:2.0
PRODID:-//Tauchteam Karlsruhe e.V. - ECPv6.15.20//NONSGML v1.0//EN
CALSCALE:GREGORIAN
METHOD:PUBLISH
X-ORIGINAL-URL:https://tauchteam-karlsruhe.de
X-WR-CALDESC:Veranstaltungen für Tauchteam Karlsruhe e.V.
REFRESH-INTERVAL;VALUE=DURATION:PT1H
X-Robots-Tag:noindex
X-PUBLISHED-TTL:PT1H
BEGIN:VTIMEZONE
TZID:Europe/Berlin
BEGIN:DAYLIGHT
TZOFFSETFROM:+0100
TZOFFSETTO:+0200
TZNAME:CEST
DTSTART:20240331T010000
END:DAYLIGHT
BEGIN:STANDARD
TZOFFSETFROM:+0200
TZOFFSETTO:+0100
TZNAME:CET
DTSTART:20241027T010000
END:STANDARD
BEGIN:DAYLIGHT
TZOFFSETFROM:+0100
TZOFFSETTO:+0200
TZNAME:CEST
DTSTART:20250330T010000
END:DAYLIGHT
BEGIN:STANDARD
TZOFFSETFROM:+0200
TZOFFSETTO:+0100
TZNAME:CET
DTSTART:20251026T010000
END:STANDARD
BEGIN:DAYLIGHT
TZOFFSETFROM:+0100
TZOFFSETTO:+0200
TZNAME:CEST
DTSTART:20260329T010000
END:DAYLIGHT
BEGIN:STANDARD
TZOFFSETFROM:+0200
TZOFFSETTO:+0100
TZNAME:CET
DTSTART:20261025T010000
END:STANDARD
BEGIN:DAYLIGHT
TZOFFSETFROM:+0100
TZOFFSETTO:+0200
TZNAME:CEST
DTSTART:20270328T010000
END:DAYLIGHT
BEGIN:STANDARD
TZOFFSETFROM:+0200
TZOFFSETTO:+0100
TZNAME:CET
DTSTART:20271031T010000
END:STANDARD
END:VTIMEZONE
BEGIN:VEVENT
DTSTART;TZID=Europe/Berlin:20260416T193000
DTEND;TZID=Europe/Berlin:20260416T203000
DTSTAMP:20260420T161251
CREATED:20251219T123403Z
LAST-MODIFIED:20251219T123403Z
UID:6909-1776367800-1776371400@tauchteam-karlsruhe.de
SUMMARY:Schwimmbadtraining / Cabriobecken
DESCRIPTION:Treffpunkt 15 min vor Trainingsbeginn vor dem Fächerbad. \nTrainer: Ralf
URL:https://tauchteam-karlsruhe.de/event/schwimmbadtraining-cabriobecken-13/
LOCATION:Fächerbad Karlsruhe\, Am Fächerbad 5\, Karlsruhe\, 76131\, Deutschland
CATEGORIES:Training
END:VEVENT
BEGIN:VEVENT
DTSTART;TZID=Europe/Berlin:20260402T190000
DTEND;TZID=Europe/Berlin:20260402T200000
DTSTAMP:20260420T161251
CREATED:20251219T123313Z
LAST-MODIFIED:20251219T123313Z
UID:6907-1775156400-1775160000@tauchteam-karlsruhe.de
SUMMARY:Gerätetraining / Springerbecken
DESCRIPTION:Treffpunkt 18:30 Uhr vor dem Fächerbad. \nTrainer: Tessa
URL:https://tauchteam-karlsruhe.de/event/geraetetraining-springerbecken-2/
LOCATION:Fächerbad Karlsruhe\, Am Fächerbad 5\, Karlsruhe\, 76131\, Deutschland
CATEGORIES:Training
END:VEVENT
BEGIN:VEVENT
DTSTART;TZID=Europe/Berlin:20260326T193000
DTEND;TZID=Europe/Berlin:20260326T203000
DTSTAMP:20260420T161251
CREATED:20251219T123221Z
LAST-MODIFIED:20251219T123221Z
UID:6905-1774553400-1774557000@tauchteam-karlsruhe.de
SUMMARY:Schwimmbadtraining / Cabriobecken
DESCRIPTION:Treffpunkt 15 min vor Trainingsbeginn vor dem Fächerbad. \nTrainer: Christian
URL:https://tauchteam-karlsruhe.de/event/schwimmbadtraining-cabriobecken-12/
LOCATION:Fächerbad Karlsruhe\, Am Fächerbad 5\, Karlsruhe\, 76131\, Deutschland
CATEGORIES:Training
END:VEVENT
BEGIN:VEVENT
DTSTART;TZID=Europe/Berlin:20260319T193000
DTEND;TZID=Europe/Berlin:20260319T203000
DTSTAMP:20260420T161251
CREATED:20251219T123144Z
LAST-MODIFIED:20251219T123144Z
UID:6903-1773948600-1773952200@tauchteam-karlsruhe.de
SUMMARY:Schwimmbadtraining / Cabriobecken
DESCRIPTION:Treffpunkt 15 min vor Trainingsbeginn vor dem Fächerbad. \nTrainer: Ralf
URL:https://tauchteam-karlsruhe.de/event/schwimmbadtraining-cabriobecken-11/
LOCATION:Fächerbad Karlsruhe\, Am Fächerbad 5\, Karlsruhe\, 76131\, Deutschland
CATEGORIES:Training
END:VEVENT
BEGIN:VEVENT
DTSTART;TZID=Europe/Berlin:20260312T193000
DTEND;TZID=Europe/Berlin:20260312T203000
DTSTAMP:20260420T161251
CREATED:20251219T123111Z
LAST-MODIFIED:20251219T123111Z
UID:6901-1773343800-1773347400@tauchteam-karlsruhe.de
SUMMARY:Schwimmbadtraining / Cabriobecken
DESCRIPTION:Treffpunkt 15 min vor Trainingsbeginn vor dem Fächerbad. \nTrainer: Tessa
URL:https://tauchteam-karlsruhe.de/event/schwimmbadtraining-cabriobecken-10/
LOCATION:Fächerbad Karlsruhe\, Am Fächerbad 5\, Karlsruhe\, 76131\, Deutschland
CATEGORIES:Training
END:VEVENT
BEGIN:VEVENT
DTSTART;TZID=Europe/Berlin:20260310T200000
DTEND;TZID=Europe/Berlin:20260310T230000
DTSTAMP:20260420T161251
CREATED:20251219T125854Z
LAST-MODIFIED:20251219T125854Z
UID:6965-1773172800-1773183600@tauchteam-karlsruhe.de
SUMMARY:Ocean Filmtour
DESCRIPTION:Ocean Filmtour
URL:https://tauchteam-karlsruhe.de/event/ocean-filmtour/
LOCATION:Filmtheater Schauburg\, Marienstraße 16\, Karlsruhe\, 76137\, Germany
CATEGORIES:Event
END:VEVENT
BEGIN:VEVENT
DTSTART;TZID=Europe/Berlin:20260307T180000
DTEND;TZID=Europe/Berlin:20260307T210000
DTSTAMP:20260420T161251
CREATED:20251219T125404Z
LAST-MODIFIED:20251219T131143Z
UID:6963-1772906400-1772917200@tauchteam-karlsruhe.de
SUMMARY:Mitgliederversammlung Tauchteam Karlsruhe e.V
DESCRIPTION:Vereinsheim der Tauchsportgruppe Graben-Neudorf \nHuttenheimer Landstraße 8 \n76676 Graben-Neudorf \n 
URL:https://tauchteam-karlsruhe.de/event/mitgliederversammlung-tauchteam-karlsruhe-e-v/
CATEGORIES:Event
END:VEVENT
BEGIN:VEVENT
DTSTART;TZID=Europe/Berlin:20260305T193000
DTEND;TZID=Europe/Berlin:20260305T203000
DTSTAMP:20260420T161251
CREATED:20251219T123040Z
LAST-MODIFIED:20251219T123040Z
UID:6899-1772739000-1772742600@tauchteam-karlsruhe.de
SUMMARY:Schwimmbadtraining / Cabriobecken
DESCRIPTION:Treffpunkt 15 min vor Trainingsbeginn vor dem Fächerbad. \nTrainer: Christian
URL:https://tauchteam-karlsruhe.de/event/schwimmbadtraining-cabriobecken-9/
LOCATION:Fächerbad Karlsruhe\, Am Fächerbad 5\, Karlsruhe\, 76131\, Deutschland
CATEGORIES:Training
END:VEVENT
BEGIN:VEVENT
DTSTART;TZID=Europe/Berlin:20260226T193000
DTEND;TZID=Europe/Berlin:20260226T203000
DTSTAMP:20260420T161251
CREATED:20251219T123002Z
LAST-MODIFIED:20251219T123002Z
UID:6897-1772134200-1772137800@tauchteam-karlsruhe.de
SUMMARY:Schwimmbadtraining / Cabriobecken
DESCRIPTION:Treffpunkt 15 min vor Trainingsbeginn vor dem Fächerbad. \nTrainer: Tessa
URL:https://tauchteam-karlsruhe.de/event/schwimmbadtraining-cabriobecken-8/
LOCATION:Fächerbad Karlsruhe\, Am Fächerbad 5\, Karlsruhe\, 76131\, Deutschland
CATEGORIES:Training
END:VEVENT
BEGIN:VEVENT
DTSTART;TZID=Europe/Berlin:20260219T190000
DTEND;TZID=Europe/Berlin:20260219T200000
DTSTAMP:20260420T161251
CREATED:20251219T122907Z
LAST-MODIFIED:20251219T122907Z
UID:6895-1771527600-1771531200@tauchteam-karlsruhe.de
SUMMARY:Gerätetraining / Springerbecken
DESCRIPTION:Treffpunkt 18:30 Uhr vor dem Fächerbad. \nTrainer: Ralf
URL:https://tauchteam-karlsruhe.de/event/geraetetraining-springerbecken/
LOCATION:Fächerbad Karlsruhe\, Am Fächerbad 5\, Karlsruhe\, 76131\, Deutschland
CATEGORIES:Training
END:VEVENT
BEGIN:VEVENT
DTSTART;TZID=Europe/Berlin:20260212T193000
DTEND;TZID=Europe/Berlin:20260212T203000
DTSTAMP:20260420T161251
CREATED:20251219T122819Z
LAST-MODIFIED:20251219T122819Z
UID:6893-1770924600-1770928200@tauchteam-karlsruhe.de
SUMMARY:Schwimmbadtraining / Cabriobecken
DESCRIPTION:Treffpunkt 15 min vor Trainingsbeginn vor dem Fächerbad. \nTrainer: Christian
URL:https://tauchteam-karlsruhe.de/event/schwimmbadtraining-cabriobecken-7/
LOCATION:Fächerbad Karlsruhe\, Am Fächerbad 5\, Karlsruhe\, 76131\, Deutschland
CATEGORIES:Training
END:VEVENT
BEGIN:VEVENT
DTSTART;TZID=Europe/Berlin:20260205T193000
DTEND;TZID=Europe/Berlin:20260205T203000
DTSTAMP:20260420T161251
CREATED:20251219T122736Z
LAST-MODIFIED:20251219T122736Z
UID:6891-1770319800-1770323400@tauchteam-karlsruhe.de
SUMMARY:Schwimmbadtraining / Cabriobecken
DESCRIPTION:Treffpunkt 15 min vor Trainingsbeginn vor dem Fächerbad. \nTrainer: Ralf
URL:https://tauchteam-karlsruhe.de/event/schwimmbadtraining-cabriobecken-6/
LOCATION:Fächerbad Karlsruhe\, Am Fächerbad 5\, Karlsruhe\, 76131\, Deutschland
CATEGORIES:Training
END:VEVENT
BEGIN:VEVENT
DTSTART;TZID=Europe/Berlin:20260129T193000
DTEND;TZID=Europe/Berlin:20260129T203000
DTSTAMP:20260420T161251
CREATED:20251219T122655Z
LAST-MODIFIED:20251219T122655Z
UID:6889-1769715000-1769718600@tauchteam-karlsruhe.de
SUMMARY:Schwimmbadtraining / Cabriobecken
DESCRIPTION:Treffpunkt 15 min vor Trainingsbeginn vor dem Fächerbad. \nTrainer: Tessa
URL:https://tauchteam-karlsruhe.de/event/schwimmbadtraining-cabriobecken-5/
LOCATION:Fächerbad Karlsruhe\, Am Fächerbad 5\, Karlsruhe\, 76131\, Deutschland
CATEGORIES:Training
END:VEVENT
BEGIN:VEVENT
DTSTART;TZID=Europe/Berlin:20260122T193000
DTEND;TZID=Europe/Berlin:20260122T203000
DTSTAMP:20260420T161251
CREATED:20251219T122606Z
LAST-MODIFIED:20251219T122606Z
UID:6887-1769110200-1769113800@tauchteam-karlsruhe.de
SUMMARY:Schwimmbadtraining / Cabriobecken
DESCRIPTION:Treffpunkt 15 min vor Trainingsbeginn vor dem Fächerbad. \nTrainer: Christian
URL:https://tauchteam-karlsruhe.de/event/schwimmbadtraining-cabriobecken-3/
LOCATION:Fächerbad Karlsruhe\, Am Fächerbad 5\, Karlsruhe\, 76131\, Deutschland
CATEGORIES:Training
END:VEVENT
BEGIN:VEVENT
DTSTART;TZID=Europe/Berlin:20260115T193000
DTEND;TZID=Europe/Berlin:20260115T203000
DTSTAMP:20260420T161251
CREATED:20251219T122513Z
LAST-MODIFIED:20251219T122513Z
UID:6885-1768505400-1768509000@tauchteam-karlsruhe.de
SUMMARY:Schwimmbadtraining / Cabriobecken
DESCRIPTION:Treffpunkt 15 min vor Trainingsbeginn vor dem Fächerbad. \nTrainer: Tessa
URL:https://tauchteam-karlsruhe.de/event/schwimmbadtraining-cabriobecken-2/
LOCATION:Fächerbad Karlsruhe\, Am Fächerbad 5\, Karlsruhe\, 76131\, Deutschland
CATEGORIES:Training
END:VEVENT
BEGIN:VEVENT
DTSTART;TZID=Europe/Berlin:20260108T193000
DTEND;TZID=Europe/Berlin:20260108T203000
DTSTAMP:20260420T161251
CREATED:20251219T122338Z
LAST-MODIFIED:20251219T122338Z
UID:6883-1767900600-1767904200@tauchteam-karlsruhe.de
SUMMARY:Schwimmbadtraining / Cabriobecken
DESCRIPTION:Treffpunkt 15 min vor Trainingsbeginn vor dem Fächerbad. \nTrainer: Ralf
URL:https://tauchteam-karlsruhe.de/event/schwimmbadtraining-cabriobecken/
LOCATION:Fächerbad Karlsruhe\, Am Fächerbad 5\, Karlsruhe\, 76131\, Deutschland
CATEGORIES:Training
END:VEVENT
BEGIN:VEVENT
DTSTART;VALUE=DATE:20260104
DTEND;VALUE=DATE:20260107
DTSTAMP:20260420T161251
CREATED:20251219T125225Z
LAST-MODIFIED:20251219T125225Z
UID:6961-1767484800-1767743999@tauchteam-karlsruhe.de
SUMMARY:Drei-Königs-Tauchen
DESCRIPTION:Jährliches Drei-Königs-Tauchen vom BAT Überlingen. \nTraditionell nächtigen wir im Hotel Sternen; Daisendorferstrasse 8; 88690 Uhldingen-Mühlhofen \nBodenseehotel Sternen Mühlofen – Lieblingshotel am Bodensee (sternen-muehlhofen.de)
URL:https://tauchteam-karlsruhe.de/event/drei-koenigs-tauchen/
LOCATION:Bodensee Parkhaus Post\, Mühlenstraße 4\, Überlingen\, 88662\, Deutschland
CATEGORIES:Event
END:VEVENT
BEGIN:VEVENT
DTSTART;TZID=Europe/Berlin:20251218T193000
DTEND;TZID=Europe/Berlin:20251218T203000
DTSTAMP:20260420T161251
CREATED:20230707T111240Z
LAST-MODIFIED:20241222T102740Z
UID:5532-1766086200-1766089800@tauchteam-karlsruhe.de
SUMMARY:Schwimmbadtraining / Cabriobecken
DESCRIPTION:Treffpunkt 15 min vor Trainingsbeginn vor dem Fächerbad. \nTrainer: Tessa
URL:https://tauchteam-karlsruhe.de/event/schwimmbadtraining-cabriobecken-82/
LOCATION:Fächerbad Karlsruhe\, Am Fächerbad 5\, Karlsruhe\, 76131\, Deutschland
CATEGORIES:Training
END:VEVENT
BEGIN:VEVENT
DTSTART;TZID=Europe/Berlin:20251213T180000
DTEND;TZID=Europe/Berlin:20251213T233000
DTSTAMP:20260420T161251
CREATED:20240206T140700Z
LAST-MODIFIED:20251111T112401Z
UID:5786-1765648800-1765668600@tauchteam-karlsruhe.de
SUMMARY:Weihnachtsfeier
DESCRIPTION:Unsere Weihnachtsfeier findet dieses Jahr im Schützenhaus Ittersbach statt. \n 
URL:https://tauchteam-karlsruhe.de/event/weihnachtsfeier-3/
LOCATION:Schützenhaus Ittersbach\, Am Sportplatz 2\, Karlsbad\, 76307
CATEGORIES:Event
END:VEVENT
BEGIN:VEVENT
DTSTART;TZID=Europe/Berlin:20251211T193000
DTEND;TZID=Europe/Berlin:20251211T203000
DTSTAMP:20260420T161251
CREATED:20230707T111322Z
LAST-MODIFIED:20241222T102622Z
UID:5534-1765481400-1765485000@tauchteam-karlsruhe.de
SUMMARY:Schwimmbadtraining / Cabriobecken
DESCRIPTION:Treffpunkt 15 min vor Trainingsbeginn vor dem Fächerbad. \nTrainer: Christian
URL:https://tauchteam-karlsruhe.de/event/schwimmbadtraining-cabriobecken-83/
LOCATION:Fächerbad Karlsruhe\, Am Fächerbad 5\, Karlsruhe\, 76131\, Deutschland
CATEGORIES:Training
END:VEVENT
BEGIN:VEVENT
DTSTART;TZID=Europe/Berlin:20251127T193000
DTEND;TZID=Europe/Berlin:20251127T203000
DTSTAMP:20260420T161251
CREATED:20230707T111150Z
LAST-MODIFIED:20241222T102551Z
UID:5530-1764271800-1764275400@tauchteam-karlsruhe.de
SUMMARY:Schwimmbadtraining / Cabriobecken
DESCRIPTION:Treffpunkt 15 min vor Trainingsbeginn vor dem Fächerbad. \nTrainer: Ralf
URL:https://tauchteam-karlsruhe.de/event/schwimmbadtraining-cabriobecken-81/
LOCATION:Fächerbad Karlsruhe\, Am Fächerbad 5\, Karlsruhe\, 76131\, Deutschland
CATEGORIES:Training
END:VEVENT
BEGIN:VEVENT
DTSTART;TZID=Europe/Berlin:20251120T193000
DTEND;TZID=Europe/Berlin:20251120T203000
DTSTAMP:20260420T161251
CREATED:20230707T111114Z
LAST-MODIFIED:20241222T102524Z
UID:5528-1763667000-1763670600@tauchteam-karlsruhe.de
SUMMARY:Schwimmbadtraining / Cabriobecken
DESCRIPTION:Treffpunkt 15 min vor Trainingsbeginn vor dem Fächerbad. \nTrainer: Tessa
URL:https://tauchteam-karlsruhe.de/event/schwimmbadtraining-cabriobecken-80/
LOCATION:Fächerbad Karlsruhe\, Am Fächerbad 5\, Karlsruhe\, 76131\, Deutschland
CATEGORIES:Training
END:VEVENT
BEGIN:VEVENT
DTSTART;TZID=Europe/Berlin:20251113T193000
DTEND;TZID=Europe/Berlin:20251113T203000
DTSTAMP:20260420T161251
CREATED:20230707T111038Z
LAST-MODIFIED:20241222T102225Z
UID:5526-1763062200-1763065800@tauchteam-karlsruhe.de
SUMMARY:Schwimmbadtraining / Cabriobecken
DESCRIPTION:Treffpunkt 15 min vor Trainingsbeginn vor dem Fächerbad. \nTrainer: Christian
URL:https://tauchteam-karlsruhe.de/event/schwimmbadtraining-cabriobecken-79/
LOCATION:Fächerbad Karlsruhe\, Am Fächerbad 5\, Karlsruhe\, 76131\, Deutschland
CATEGORIES:Training
END:VEVENT
BEGIN:VEVENT
DTSTART;TZID=Europe/Berlin:20251106T190000
DTEND;TZID=Europe/Berlin:20251106T200000
DTSTAMP:20260420T161251
CREATED:20231220T164013Z
LAST-MODIFIED:20241222T102131Z
UID:5699-1762455600-1762459200@tauchteam-karlsruhe.de
SUMMARY:Gerätetraining / Springerbecken
DESCRIPTION:Treffpunkt 18:30 Uhr vor dem Fächerbad. \nTrainer: Tessa
URL:https://tauchteam-karlsruhe.de/event/geraetetraining-springerbecken-12/
LOCATION:Fächerbad Karlsruhe\, Am Fächerbad 5\, Karlsruhe\, 76131\, Deutschland
CATEGORIES:Training
END:VEVENT
BEGIN:VEVENT
DTSTART;TZID=Europe/Berlin:20251101T120000
DTEND;TZID=Europe/Berlin:20251101T170000
DTSTAMP:20260420T161251
CREATED:20241222T092915Z
LAST-MODIFIED:20250312T063654Z
UID:6583-1761998400-1762016400@tauchteam-karlsruhe.de
SUMMARY:Halloweentauchen Plittersdorf
DESCRIPTION:
URL:https://tauchteam-karlsruhe.de/event/halloweentauchen-plittersdorf/
CATEGORIES:Event
END:VEVENT
BEGIN:VEVENT
DTSTART;TZID=Europe/Berlin:20251030T193000
DTEND;TZID=Europe/Berlin:20251030T203000
DTSTAMP:20260420T161251
CREATED:20230707T105855Z
LAST-MODIFIED:20250312T063436Z
UID:5502-1761852600-1761856200@tauchteam-karlsruhe.de
SUMMARY:Schwimmbadtraining / Cabriobecken
DESCRIPTION:Treffpunkt 15 min vor Trainingsbeginn vor dem Fächerbad. \nTrainer: Jochen
URL:https://tauchteam-karlsruhe.de/event/schwimmbadtraining-cabriobecken-68/
LOCATION:Fächerbad Karlsruhe\, Am Fächerbad 5\, Karlsruhe\, 76131\, Deutschland
CATEGORIES:Training
END:VEVENT
BEGIN:VEVENT
DTSTART;TZID=Europe/Berlin:20251023T193000
DTEND;TZID=Europe/Berlin:20251023T203000
DTSTAMP:20260420T161251
CREATED:20230707T105811Z
LAST-MODIFIED:20250312T063513Z
UID:5500-1761247800-1761251400@tauchteam-karlsruhe.de
SUMMARY:Schwimmbadtraining / Cabriobecken
DESCRIPTION:Treffpunkt 15 min vor Trainingsbeginn vor dem Fächerbad. \nTrainer: Christian
URL:https://tauchteam-karlsruhe.de/event/schwimmbadtraining-cabriobecken-67/
LOCATION:Fächerbad Karlsruhe\, Am Fächerbad 5\, Karlsruhe\, 76131\, Deutschland
CATEGORIES:Training
END:VEVENT
BEGIN:VEVENT
DTSTART;TZID=Europe/Berlin:20251016T193000
DTEND;TZID=Europe/Berlin:20251016T203000
DTSTAMP:20260420T161251
CREATED:20230707T091156Z
LAST-MODIFIED:20241222T101359Z
UID:5498-1760643000-1760646600@tauchteam-karlsruhe.de
SUMMARY:Schwimmbadtraining / Cabriobecken
DESCRIPTION:Treffpunkt 15 min vor Trainingsbeginn vor dem Fächerbad. \nTrainer: Ralf
URL:https://tauchteam-karlsruhe.de/event/schwimmbadtraining-cabriobecken-66/
LOCATION:Fächerbad Karlsruhe\, Am Fächerbad 5\, Karlsruhe\, 76131\, Deutschland
CATEGORIES:Training
END:VEVENT
BEGIN:VEVENT
DTSTART;TZID=Europe/Berlin:20251009T193000
DTEND;TZID=Europe/Berlin:20251009T203000
DTSTAMP:20260420T161251
CREATED:20230707T091128Z
LAST-MODIFIED:20241222T101315Z
UID:5496-1760038200-1760041800@tauchteam-karlsruhe.de
SUMMARY:Schwimmbadtraining / Cabriobecken
DESCRIPTION:Treffpunkt 15 min vor Trainingsbeginn vor dem Fächerbad. \nTrainer: Tessa
URL:https://tauchteam-karlsruhe.de/event/schwimmbadtraining-cabriobecken-65/
LOCATION:Fächerbad Karlsruhe\, Am Fächerbad 5\, Karlsruhe\, 76131\, Deutschland
CATEGORIES:Training
END:VEVENT
BEGIN:VEVENT
DTSTART;TZID=Europe/Berlin:20251002T190000
DTEND;TZID=Europe/Berlin:20251002T200000
DTSTAMP:20260420T161251
CREATED:20230707T111455Z
LAST-MODIFIED:20241222T101213Z
UID:5536-1759431600-1759435200@tauchteam-karlsruhe.de
SUMMARY:Gerätetraining / Springerbecken
DESCRIPTION:Treffpunkt 18:30 Uhr vor dem Fächerbad. \nTrainer: Ralf
URL:https://tauchteam-karlsruhe.de/event/geraetetraining-springerbecken-14/
LOCATION:Fächerbad Karlsruhe\, Am Fächerbad 5\, Karlsruhe\, 76131\, Deutschland
CATEGORIES:Training
END:VEVENT
END:VCALENDAR