BEGIN:VCALENDAR
VERSION:2.0
PRODID:-//Tauchteam Karlsruhe e.V. - ECPv6.15.20//NONSGML v1.0//EN
CALSCALE:GREGORIAN
METHOD:PUBLISH
X-ORIGINAL-URL:https://tauchteam-karlsruhe.de
X-WR-CALDESC:Veranstaltungen für Tauchteam Karlsruhe e.V.
REFRESH-INTERVAL;VALUE=DURATION:PT1H
X-Robots-Tag:noindex
X-PUBLISHED-TTL:PT1H
BEGIN:VTIMEZONE
TZID:Europe/Berlin
BEGIN:DAYLIGHT
TZOFFSETFROM:+0100
TZOFFSETTO:+0200
TZNAME:CEST
DTSTART:20250330T010000
END:DAYLIGHT
BEGIN:STANDARD
TZOFFSETFROM:+0200
TZOFFSETTO:+0100
TZNAME:CET
DTSTART:20251026T010000
END:STANDARD
BEGIN:DAYLIGHT
TZOFFSETFROM:+0100
TZOFFSETTO:+0200
TZNAME:CEST
DTSTART:20260329T010000
END:DAYLIGHT
BEGIN:STANDARD
TZOFFSETFROM:+0200
TZOFFSETTO:+0100
TZNAME:CET
DTSTART:20261025T010000
END:STANDARD
BEGIN:DAYLIGHT
TZOFFSETFROM:+0100
TZOFFSETTO:+0200
TZNAME:CEST
DTSTART:20270328T010000
END:DAYLIGHT
BEGIN:STANDARD
TZOFFSETFROM:+0200
TZOFFSETTO:+0100
TZNAME:CET
DTSTART:20271031T010000
END:STANDARD
END:VTIMEZONE
BEGIN:VEVENT
DTSTART;TZID=Europe/Berlin:20260723T193000
DTEND;TZID=Europe/Berlin:20260723T203000
DTSTAMP:20260420T161358
CREATED:20251219T124035Z
LAST-MODIFIED:20251219T124035Z
UID:6931-1784835000-1784838600@tauchteam-karlsruhe.de
SUMMARY:Schwimmbadtraining / Cabriobecken
DESCRIPTION:  \nTut uns leid\, aber dieser Inhalt ist nur für Mitglieder zugänglich. \n  \n\n 
URL:https://tauchteam-karlsruhe.de/event/schwimmbadtraining-cabriobecken-24/
LOCATION:Fächerbad Karlsruhe\, Am Fächerbad 5\, Karlsruhe\, 76131\, Deutschland
CATEGORIES:Training
END:VEVENT
BEGIN:VEVENT
DTSTART;TZID=Europe/Berlin:20260917T190000
DTEND;TZID=Europe/Berlin:20260917T200000
DTSTAMP:20260420T161358
CREATED:20251219T124146Z
LAST-MODIFIED:20251219T124146Z
UID:6933-1789671600-1789675200@tauchteam-karlsruhe.de
SUMMARY:Gerätetraining / Springerbecken
DESCRIPTION:  \nTut uns leid\, aber dieser Inhalt ist nur für Mitglieder zugänglich. \n  \n\n 
URL:https://tauchteam-karlsruhe.de/event/geraetetraining-springerbecken-3/
LOCATION:Fächerbad Karlsruhe\, Am Fächerbad 5\, Karlsruhe\, 76131\, Deutschland
CATEGORIES:Training
END:VEVENT
BEGIN:VEVENT
DTSTART;TZID=Europe/Berlin:20260924T193000
DTEND;TZID=Europe/Berlin:20260924T203000
DTSTAMP:20260420T161358
CREATED:20251219T124350Z
LAST-MODIFIED:20251219T124350Z
UID:6941-1790278200-1790281800@tauchteam-karlsruhe.de
SUMMARY:Schwimmbadtraining / Cabriobecken
DESCRIPTION:  \nTut uns leid\, aber dieser Inhalt ist nur für Mitglieder zugänglich. \n  \n\n 
URL:https://tauchteam-karlsruhe.de/event/schwimmbadtraining-cabriobecken-25/
LOCATION:Fächerbad Karlsruhe\, Am Fächerbad 5\, Karlsruhe\, 76131\, Deutschland
CATEGORIES:Training
END:VEVENT
BEGIN:VEVENT
DTSTART;TZID=Europe/Berlin:20261001T193000
DTEND;TZID=Europe/Berlin:20261001T203000
DTSTAMP:20260420T161358
CREATED:20251219T124437Z
LAST-MODIFIED:20251219T124437Z
UID:6945-1790883000-1790886600@tauchteam-karlsruhe.de
SUMMARY:Schwimmbadtraining / Cabriobecken
DESCRIPTION:  \nTut uns leid\, aber dieser Inhalt ist nur für Mitglieder zugänglich. \n  \n\n 
URL:https://tauchteam-karlsruhe.de/event/schwimmbadtraining-cabriobecken-26/
LOCATION:Fächerbad Karlsruhe\, Am Fächerbad 5\, Karlsruhe\, 76131\, Deutschland
CATEGORIES:Training
END:VEVENT
BEGIN:VEVENT
DTSTART;TZID=Europe/Berlin:20261003T100000
DTEND;TZID=Europe/Berlin:20261003T160000
DTSTAMP:20260420T161358
CREATED:20251219T131753Z
LAST-MODIFIED:20251219T131753Z
UID:6984-1791021600-1791043200@tauchteam-karlsruhe.de
SUMMARY:Druckkammerfahrt
DESCRIPTION:  \nTut uns leid\, aber dieser Inhalt ist nur für Mitglieder zugänglich. \n  \n\n 
URL:https://tauchteam-karlsruhe.de/event/druckkammerfahrt/
LOCATION:Helios Spital Überlingen\, Härlenweg 1\, Überlingen\, 88662\, Germany
CATEGORIES:Event
END:VEVENT
BEGIN:VEVENT
DTSTART;TZID=Europe/Berlin:20261008T190000
DTEND;TZID=Europe/Berlin:20261008T200000
DTSTAMP:20260420T161358
CREATED:20251219T124215Z
LAST-MODIFIED:20251219T124215Z
UID:6935-1791486000-1791489600@tauchteam-karlsruhe.de
SUMMARY:Gerätetraining / Springerbecken
DESCRIPTION:  \nTut uns leid\, aber dieser Inhalt ist nur für Mitglieder zugänglich. \n  \n\n 
URL:https://tauchteam-karlsruhe.de/event/geraetetraining-springerbecken-4/
LOCATION:Fächerbad Karlsruhe\, Am Fächerbad 5\, Karlsruhe\, 76131\, Deutschland
CATEGORIES:Training
END:VEVENT
BEGIN:VEVENT
DTSTART;TZID=Europe/Berlin:20261015T193000
DTEND;TZID=Europe/Berlin:20261015T203000
DTSTAMP:20260420T161358
CREATED:20251219T124505Z
LAST-MODIFIED:20251219T124505Z
UID:6947-1792092600-1792096200@tauchteam-karlsruhe.de
SUMMARY:Schwimmbadtraining / Cabriobecken
DESCRIPTION:  \nTut uns leid\, aber dieser Inhalt ist nur für Mitglieder zugänglich. \n  \n\n 
URL:https://tauchteam-karlsruhe.de/event/schwimmbadtraining-cabriobecken-27/
LOCATION:Fächerbad Karlsruhe\, Am Fächerbad 5\, Karlsruhe\, 76131\, Deutschland
CATEGORIES:Training
END:VEVENT
BEGIN:VEVENT
DTSTART;TZID=Europe/Berlin:20261022T193000
DTEND;TZID=Europe/Berlin:20261022T203000
DTSTAMP:20260420T161358
CREATED:20251219T124530Z
LAST-MODIFIED:20251219T124530Z
UID:6949-1792697400-1792701000@tauchteam-karlsruhe.de
SUMMARY:Schwimmbadtraining / Cabriobecken
DESCRIPTION:  \nTut uns leid\, aber dieser Inhalt ist nur für Mitglieder zugänglich. \n  \n\n 
URL:https://tauchteam-karlsruhe.de/event/schwimmbadtraining-cabriobecken-28/
LOCATION:Fächerbad Karlsruhe\, Am Fächerbad 5\, Karlsruhe\, 76131\, Deutschland
CATEGORIES:Training
END:VEVENT
BEGIN:VEVENT
DTSTART;TZID=Europe/Berlin:20261105T190000
DTEND;TZID=Europe/Berlin:20261105T200000
DTSTAMP:20260420T161358
CREATED:20251219T124244Z
LAST-MODIFIED:20251219T124244Z
UID:6937-1793905200-1793908800@tauchteam-karlsruhe.de
SUMMARY:Gerätetraining / Springerbecken
DESCRIPTION:  \nTut uns leid\, aber dieser Inhalt ist nur für Mitglieder zugänglich. \n  \n\n 
URL:https://tauchteam-karlsruhe.de/event/geraetetraining-springerbecken-5/
LOCATION:Fächerbad Karlsruhe\, Am Fächerbad 5\, Karlsruhe\, 76131\, Deutschland
CATEGORIES:Training
END:VEVENT
BEGIN:VEVENT
DTSTART;TZID=Europe/Berlin:20261112T193000
DTEND;TZID=Europe/Berlin:20261112T203000
DTSTAMP:20260420T161358
CREATED:20251219T124601Z
LAST-MODIFIED:20251219T124601Z
UID:6951-1794511800-1794515400@tauchteam-karlsruhe.de
SUMMARY:Schwimmbadtraining / Cabriobecken
DESCRIPTION:  \nTut uns leid\, aber dieser Inhalt ist nur für Mitglieder zugänglich. \n  \n\n 
URL:https://tauchteam-karlsruhe.de/event/schwimmbadtraining-cabriobecken-29/
LOCATION:Fächerbad Karlsruhe\, Am Fächerbad 5\, Karlsruhe\, 76131\, Deutschland
CATEGORIES:Training
END:VEVENT
BEGIN:VEVENT
DTSTART;TZID=Europe/Berlin:20261119T193000
DTEND;TZID=Europe/Berlin:20261119T203000
DTSTAMP:20260420T161358
CREATED:20251219T124638Z
LAST-MODIFIED:20251219T124638Z
UID:6953-1795116600-1795120200@tauchteam-karlsruhe.de
SUMMARY:Schwimmbadtraining / Cabriobecken
DESCRIPTION:  \nTut uns leid\, aber dieser Inhalt ist nur für Mitglieder zugänglich. \n  \n\n 
URL:https://tauchteam-karlsruhe.de/event/schwimmbadtraining-cabriobecken-30/
LOCATION:Fächerbad Karlsruhe\, Am Fächerbad 5\, Karlsruhe\, 76131\, Deutschland
CATEGORIES:Training
END:VEVENT
BEGIN:VEVENT
DTSTART;TZID=Europe/Berlin:20261126T193000
DTEND;TZID=Europe/Berlin:20261126T203000
DTSTAMP:20260420T161358
CREATED:20251219T124703Z
LAST-MODIFIED:20251219T124703Z
UID:6955-1795721400-1795725000@tauchteam-karlsruhe.de
SUMMARY:Schwimmbadtraining / Cabriobecken
DESCRIPTION:  \nTut uns leid\, aber dieser Inhalt ist nur für Mitglieder zugänglich. \n  \n\n 
URL:https://tauchteam-karlsruhe.de/event/schwimmbadtraining-cabriobecken-31/
LOCATION:Fächerbad Karlsruhe\, Am Fächerbad 5\, Karlsruhe\, 76131\, Deutschland
CATEGORIES:Training
END:VEVENT
BEGIN:VEVENT
DTSTART;TZID=Europe/Berlin:20261203T190000
DTEND;TZID=Europe/Berlin:20261203T200000
DTSTAMP:20260420T161358
CREATED:20251219T124311Z
LAST-MODIFIED:20251219T124311Z
UID:6939-1796324400-1796328000@tauchteam-karlsruhe.de
SUMMARY:Gerätetraining / Springerbecken
DESCRIPTION:  \nTut uns leid\, aber dieser Inhalt ist nur für Mitglieder zugänglich. \n  \n\n 
URL:https://tauchteam-karlsruhe.de/event/geraetetraining-springerbecken-6/
LOCATION:Fächerbad Karlsruhe\, Am Fächerbad 5\, Karlsruhe\, 76131\, Deutschland
CATEGORIES:Training
END:VEVENT
BEGIN:VEVENT
DTSTART;TZID=Europe/Berlin:20261210T193000
DTEND;TZID=Europe/Berlin:20261210T203000
DTSTAMP:20260420T161358
CREATED:20251219T124729Z
LAST-MODIFIED:20251219T124729Z
UID:6957-1796931000-1796934600@tauchteam-karlsruhe.de
SUMMARY:Schwimmbadtraining / Cabriobecken
DESCRIPTION:  \nTut uns leid\, aber dieser Inhalt ist nur für Mitglieder zugänglich. \n  \n\n 
URL:https://tauchteam-karlsruhe.de/event/schwimmbadtraining-cabriobecken-32/
LOCATION:Fächerbad Karlsruhe\, Am Fächerbad 5\, Karlsruhe\, 76131\, Deutschland
CATEGORIES:Training
END:VEVENT
BEGIN:VEVENT
DTSTART;TZID=Europe/Berlin:20261212T180000
DTEND;TZID=Europe/Berlin:20261212T233000
DTSTAMP:20260420T161358
CREATED:20251219T131452Z
LAST-MODIFIED:20251219T131452Z
UID:6982-1797098400-1797118200@tauchteam-karlsruhe.de
SUMMARY:Weihnachtsfeier
DESCRIPTION:  \nTut uns leid\, aber dieser Inhalt ist nur für Mitglieder zugänglich. \n  \n\n 
URL:https://tauchteam-karlsruhe.de/event/weihnachtsfeier/
CATEGORIES:Event
END:VEVENT
BEGIN:VEVENT
DTSTART;TZID=Europe/Berlin:20261217T193000
DTEND;TZID=Europe/Berlin:20261217T203000
DTSTAMP:20260420T161358
CREATED:20251219T124806Z
LAST-MODIFIED:20251219T124806Z
UID:6959-1797535800-1797539400@tauchteam-karlsruhe.de
SUMMARY:Schwimmbadtraining / Cabriobecken
DESCRIPTION:  \nTut uns leid\, aber dieser Inhalt ist nur für Mitglieder zugänglich. \n  \n\n 
URL:https://tauchteam-karlsruhe.de/event/schwimmbadtraining-cabriobecken-33/
LOCATION:Fächerbad Karlsruhe\, Am Fächerbad 5\, Karlsruhe\, 76131\, Deutschland
CATEGORIES:Training
END:VEVENT
END:VCALENDAR