BEGIN:VCALENDAR
VERSION:2.0
PRODID:-//Tauchteam Karlsruhe e.V. - ECPv6.15.20//NONSGML v1.0//EN
CALSCALE:GREGORIAN
METHOD:PUBLISH
X-WR-CALNAME:Tauchteam Karlsruhe e.V.
X-ORIGINAL-URL:https://tauchteam-karlsruhe.de
X-WR-CALDESC:Veranstaltungen für Tauchteam Karlsruhe e.V.
REFRESH-INTERVAL;VALUE=DURATION:PT1H
X-Robots-Tag:noindex
X-PUBLISHED-TTL:PT1H
BEGIN:VTIMEZONE
TZID:Europe/Berlin
BEGIN:DAYLIGHT
TZOFFSETFROM:+0100
TZOFFSETTO:+0200
TZNAME:CEST
DTSTART:20240331T010000
END:DAYLIGHT
BEGIN:STANDARD
TZOFFSETFROM:+0200
TZOFFSETTO:+0100
TZNAME:CET
DTSTART:20241027T010000
END:STANDARD
BEGIN:DAYLIGHT
TZOFFSETFROM:+0100
TZOFFSETTO:+0200
TZNAME:CEST
DTSTART:20250330T010000
END:DAYLIGHT
BEGIN:STANDARD
TZOFFSETFROM:+0200
TZOFFSETTO:+0100
TZNAME:CET
DTSTART:20251026T010000
END:STANDARD
BEGIN:DAYLIGHT
TZOFFSETFROM:+0100
TZOFFSETTO:+0200
TZNAME:CEST
DTSTART:20260329T010000
END:DAYLIGHT
BEGIN:STANDARD
TZOFFSETFROM:+0200
TZOFFSETTO:+0100
TZNAME:CET
DTSTART:20261025T010000
END:STANDARD
END:VTIMEZONE
BEGIN:VEVENT
DTSTART;VALUE=DATE:20250106
DTEND;VALUE=DATE:20250107
DTSTAMP:20260423T163505
CREATED:20231030T115650Z
LAST-MODIFIED:20241222T092028Z
UID:5651-1736121600-1736207999@tauchteam-karlsruhe.de
SUMMARY:Drei-Königs-Tauchen
DESCRIPTION:Jährliches Drei-Königs-Tauchen vom BAT Überlingen. \nTraditionell nächtigen wir im Hotel Sternen; Daisendorferstrasse 8; 88690 Uhldingen-Mühlhofen \nBodenseehotel Sternen Mühlofen – Lieblingshotel am Bodensee (sternen-muehlhofen.de)
URL:https://tauchteam-karlsruhe.de/event/drei-koenigs-tauchen-2/
LOCATION:Bodensee Parkhaus Post\, Mühlenstraße 4\, Überlingen\, 88662\, Deutschland
CATEGORIES:Event
END:VEVENT
BEGIN:VEVENT
DTSTART;TZID=Europe/Berlin:20250109T193000
DTEND;TZID=Europe/Berlin:20250109T203000
DTSTAMP:20260423T163505
CREATED:20230707T083714Z
LAST-MODIFIED:20241222T093123Z
UID:5437-1736451000-1736454600@tauchteam-karlsruhe.de
SUMMARY:Schwimmbadtraining / Cabriobecken
DESCRIPTION:Treffpunkt 15 min vor Trainingsbeginn vor dem Fächerbad. \nTrainer: Ralf
URL:https://tauchteam-karlsruhe.de/event/schwimmbadtraining-cabriobecken-4/
LOCATION:Fächerbad Karlsruhe\, Am Fächerbad 5\, Karlsruhe\, 76131\, Deutschland
CATEGORIES:Training
END:VEVENT
BEGIN:VEVENT
DTSTART;TZID=Europe/Berlin:20250116T193000
DTEND;TZID=Europe/Berlin:20250116T203000
DTSTAMP:20260423T163505
CREATED:20230707T083840Z
LAST-MODIFIED:20241222T093213Z
UID:5439-1737055800-1737059400@tauchteam-karlsruhe.de
SUMMARY:Schwimmbadtraining / Cabriobecken
DESCRIPTION:Treffpunkt 15 min vor Trainingsbeginn vor dem Fächerbad. \nTrainer: Jochen
URL:https://tauchteam-karlsruhe.de/event/schwimmbadtraining-cabriobecken-43/
LOCATION:Fächerbad Karlsruhe\, Am Fächerbad 5\, Karlsruhe\, 76131\, Deutschland
CATEGORIES:Training
END:VEVENT
BEGIN:VEVENT
DTSTART;TZID=Europe/Berlin:20250123T193000
DTEND;TZID=Europe/Berlin:20250123T203000
DTSTAMP:20260423T163505
CREATED:20230707T083944Z
LAST-MODIFIED:20241222T093609Z
UID:5441-1737660600-1737664200@tauchteam-karlsruhe.de
SUMMARY:Schwimmbadtraining / Cabriobecken
DESCRIPTION:Treffpunkt 15 min vor Trainingsbeginn vor dem Fächerbad. \nTrainer: Tessa
URL:https://tauchteam-karlsruhe.de/event/geraetetraining-springerbecken-8/
LOCATION:Fächerbad Karlsruhe\, Am Fächerbad 5\, Karlsruhe\, 76131\, Deutschland
CATEGORIES:Training
END:VEVENT
BEGIN:VEVENT
DTSTART;TZID=Europe/Berlin:20250127T000000
DTEND;TZID=Europe/Berlin:20250127T000000
DTSTAMP:20260423T163505
CREATED:20241222T091647Z
LAST-MODIFIED:20241222T092307Z
UID:6559-1737936000-1737936000@tauchteam-karlsruhe.de
SUMMARY:Abgetaucht in der Kulisse Ettlingen
DESCRIPTION:
URL:https://tauchteam-karlsruhe.de/event/abgetaucht-in-der-kulisse-ettlingen/
CATEGORIES:Event
END:VEVENT
BEGIN:VEVENT
DTSTART;TZID=Europe/Berlin:20250130T193000
DTEND;TZID=Europe/Berlin:20250130T203000
DTSTAMP:20260423T163505
CREATED:20230707T084050Z
LAST-MODIFIED:20241222T093443Z
UID:5443-1738265400-1738269000@tauchteam-karlsruhe.de
SUMMARY:Schwimmbadtraining / Cabriobecken
DESCRIPTION:Treffpunkt 15 min vor Trainingsbeginn vor dem Fächerbad. \nTrainer: Tessa
URL:https://tauchteam-karlsruhe.de/event/schwimmbadtraining-cabriobecken-44/
LOCATION:Fächerbad Karlsruhe\, Am Fächerbad 5\, Karlsruhe\, 76131\, Deutschland
CATEGORIES:Training
END:VEVENT
END:VCALENDAR