BEGIN:VCALENDAR
VERSION:2.0
PRODID:-//Tauchteam Karlsruhe e.V. - ECPv6.15.20//NONSGML v1.0//EN
CALSCALE:GREGORIAN
METHOD:PUBLISH
X-WR-CALNAME:Tauchteam Karlsruhe e.V.
X-ORIGINAL-URL:https://tauchteam-karlsruhe.de
X-WR-CALDESC:Veranstaltungen für Tauchteam Karlsruhe e.V.
REFRESH-INTERVAL;VALUE=DURATION:PT1H
X-Robots-Tag:noindex
X-PUBLISHED-TTL:PT1H
BEGIN:VTIMEZONE
TZID:Europe/Berlin
BEGIN:DAYLIGHT
TZOFFSETFROM:+0100
TZOFFSETTO:+0200
TZNAME:CEST
DTSTART:20240331T010000
END:DAYLIGHT
BEGIN:STANDARD
TZOFFSETFROM:+0200
TZOFFSETTO:+0100
TZNAME:CET
DTSTART:20241027T010000
END:STANDARD
BEGIN:DAYLIGHT
TZOFFSETFROM:+0100
TZOFFSETTO:+0200
TZNAME:CEST
DTSTART:20250330T010000
END:DAYLIGHT
BEGIN:STANDARD
TZOFFSETFROM:+0200
TZOFFSETTO:+0100
TZNAME:CET
DTSTART:20251026T010000
END:STANDARD
BEGIN:DAYLIGHT
TZOFFSETFROM:+0100
TZOFFSETTO:+0200
TZNAME:CEST
DTSTART:20260329T010000
END:DAYLIGHT
BEGIN:STANDARD
TZOFFSETFROM:+0200
TZOFFSETTO:+0100
TZNAME:CET
DTSTART:20261025T010000
END:STANDARD
END:VTIMEZONE
BEGIN:VEVENT
DTSTART;TZID=Europe/Berlin:20250605T193000
DTEND;TZID=Europe/Berlin:20250605T203000
DTSTAMP:20260421T092613
CREATED:20230707T090739Z
LAST-MODIFIED:20241222T100347Z
UID:5484-1749151800-1749155400@tauchteam-karlsruhe.de
SUMMARY:Schwimmbadtraining / Cabriobecken
DESCRIPTION:Treffpunkt 15 min vor Trainingsbeginn vor dem Fächerbad. \nTrainer: Tessa
URL:https://tauchteam-karlsruhe.de/event/schwimmbadtraining-cabriobecken-59/
LOCATION:Fächerbad Karlsruhe\, Am Fächerbad 5\, Karlsruhe\, 76131\, Deutschland
CATEGORIES:Training
END:VEVENT
BEGIN:VEVENT
DTSTART;TZID=Europe/Berlin:20250626T193000
DTEND;TZID=Europe/Berlin:20250626T203000
DTSTAMP:20260421T092613
CREATED:20230707T090817Z
LAST-MODIFIED:20241222T100436Z
UID:5486-1750966200-1750969800@tauchteam-karlsruhe.de
SUMMARY:Schwimmbadtraining / Cabriobecken
DESCRIPTION:Treffpunkt 15 min vor Trainingsbeginn vor dem Fächerbad. \nTrainer: Jochen
URL:https://tauchteam-karlsruhe.de/event/schwimmbadtraining-cabriobecken-60/
LOCATION:Fächerbad Karlsruhe\, Am Fächerbad 5\, Karlsruhe\, 76131\, Deutschland
CATEGORIES:Training
END:VEVENT
END:VCALENDAR