BEGIN:VCALENDAR
VERSION:2.0
PRODID:-//Tauchteam Karlsruhe e.V. - ECPv6.15.20//NONSGML v1.0//EN
CALSCALE:GREGORIAN
METHOD:PUBLISH
X-WR-CALNAME:Tauchteam Karlsruhe e.V.
X-ORIGINAL-URL:https://tauchteam-karlsruhe.de
X-WR-CALDESC:Veranstaltungen für Tauchteam Karlsruhe e.V.
REFRESH-INTERVAL;VALUE=DURATION:PT1H
X-Robots-Tag:noindex
X-PUBLISHED-TTL:PT1H
BEGIN:VTIMEZONE
TZID:Europe/Berlin
BEGIN:DAYLIGHT
TZOFFSETFROM:+0100
TZOFFSETTO:+0200
TZNAME:CEST
DTSTART:20240331T010000
END:DAYLIGHT
BEGIN:STANDARD
TZOFFSETFROM:+0200
TZOFFSETTO:+0100
TZNAME:CET
DTSTART:20241027T010000
END:STANDARD
BEGIN:DAYLIGHT
TZOFFSETFROM:+0100
TZOFFSETTO:+0200
TZNAME:CEST
DTSTART:20250330T010000
END:DAYLIGHT
BEGIN:STANDARD
TZOFFSETFROM:+0200
TZOFFSETTO:+0100
TZNAME:CET
DTSTART:20251026T010000
END:STANDARD
BEGIN:DAYLIGHT
TZOFFSETFROM:+0100
TZOFFSETTO:+0200
TZNAME:CEST
DTSTART:20260329T010000
END:DAYLIGHT
BEGIN:STANDARD
TZOFFSETFROM:+0200
TZOFFSETTO:+0100
TZNAME:CET
DTSTART:20261025T010000
END:STANDARD
END:VTIMEZONE
BEGIN:VEVENT
DTSTART;TZID=Europe/Berlin:20250703T193000
DTEND;TZID=Europe/Berlin:20250703T203000
DTSTAMP:20260421T092609
CREATED:20230707T090858Z
LAST-MODIFIED:20241222T100518Z
UID:5488-1751571000-1751574600@tauchteam-karlsruhe.de
SUMMARY:Schwimmbadtraining / Cabriobecken
DESCRIPTION:Treffpunkt 15 min vor Trainingsbeginn vor dem Fächerbad. \nTrainer: Christian
URL:https://tauchteam-karlsruhe.de/event/schwimmbadtraining-cabriobecken-61/
LOCATION:Fächerbad Karlsruhe\, Am Fächerbad 5\, Karlsruhe\, 76131\, Deutschland
CATEGORIES:Training
END:VEVENT
BEGIN:VEVENT
DTSTART;TZID=Europe/Berlin:20250710T193000
DTEND;TZID=Europe/Berlin:20250710T203000
DTSTAMP:20260421T092609
CREATED:20230707T090944Z
LAST-MODIFIED:20241222T100551Z
UID:5490-1752175800-1752179400@tauchteam-karlsruhe.de
SUMMARY:Schwimmbadtraining / Cabriobecken
DESCRIPTION:Treffpunkt 15 min vor Trainingsbeginn vor dem Fächerbad. \nTrainer: Ralf
URL:https://tauchteam-karlsruhe.de/event/schwimmbadtraining-cabriobecken-62/
LOCATION:Fächerbad Karlsruhe\, Am Fächerbad 5\, Karlsruhe\, 76131\, Deutschland
CATEGORIES:Training
END:VEVENT
BEGIN:VEVENT
DTSTART;TZID=Europe/Berlin:20250717T193000
DTEND;TZID=Europe/Berlin:20250717T203000
DTSTAMP:20260421T092609
CREATED:20230707T091012Z
LAST-MODIFIED:20241222T101039Z
UID:5492-1752780600-1752784200@tauchteam-karlsruhe.de
SUMMARY:Schwimmbadtraining / Cabriobecken
DESCRIPTION:Treffpunkt 15 min vor Trainingsbeginn vor dem Fächerbad. \nTrainer: Tessa
URL:https://tauchteam-karlsruhe.de/event/schwimmbadtraining-cabriobecken-63/
LOCATION:Fächerbad Karlsruhe\, Am Fächerbad 5\, Karlsruhe\, 76131\, Deutschland
CATEGORIES:Training
END:VEVENT
BEGIN:VEVENT
DTSTART;TZID=Europe/Berlin:20250719T170000
DTEND;TZID=Europe/Berlin:20250719T230000
DTSTAMP:20260421T092609
CREATED:20241222T092146Z
LAST-MODIFIED:20250426T090439Z
UID:6563-1752944400-1752966000@tauchteam-karlsruhe.de
SUMMARY:Grillfest
DESCRIPTION:
URL:https://tauchteam-karlsruhe.de/event/grillfest/
LOCATION:Jochen Schlegelmilch\, Richard-Wagner-Str. 3\, Walzbachtal\, 75045\, Germany
CATEGORIES:Event
END:VEVENT
BEGIN:VEVENT
DTSTART;TZID=Europe/Berlin:20250724T193000
DTEND;TZID=Europe/Berlin:20250724T203000
DTSTAMP:20260421T092609
CREATED:20230707T091055Z
LAST-MODIFIED:20241222T101118Z
UID:5494-1753385400-1753389000@tauchteam-karlsruhe.de
SUMMARY:Schwimmbadtraining / Cabriobecken
DESCRIPTION:Treffpunkt 15 min vor Trainingsbeginn vor dem Fächerbad. \nTrainer: Jochen
URL:https://tauchteam-karlsruhe.de/event/schwimmbadtraining-cabriobecken-64/
LOCATION:Fächerbad Karlsruhe\, Am Fächerbad 5\, Karlsruhe\, 76131\, Deutschland
CATEGORIES:Training
END:VEVENT
END:VCALENDAR