BEGIN:VCALENDAR
VERSION:2.0
PRODID:-//Tauchteam Karlsruhe e.V. - ECPv6.15.20//NONSGML v1.0//EN
CALSCALE:GREGORIAN
METHOD:PUBLISH
X-ORIGINAL-URL:https://tauchteam-karlsruhe.de
X-WR-CALDESC:Veranstaltungen für Tauchteam Karlsruhe e.V.
REFRESH-INTERVAL;VALUE=DURATION:PT1H
X-Robots-Tag:noindex
X-PUBLISHED-TTL:PT1H
BEGIN:VTIMEZONE
TZID:Europe/Berlin
BEGIN:DAYLIGHT
TZOFFSETFROM:+0100
TZOFFSETTO:+0200
TZNAME:CEST
DTSTART:20240331T010000
END:DAYLIGHT
BEGIN:STANDARD
TZOFFSETFROM:+0200
TZOFFSETTO:+0100
TZNAME:CET
DTSTART:20241027T010000
END:STANDARD
BEGIN:DAYLIGHT
TZOFFSETFROM:+0100
TZOFFSETTO:+0200
TZNAME:CEST
DTSTART:20250330T010000
END:DAYLIGHT
BEGIN:STANDARD
TZOFFSETFROM:+0200
TZOFFSETTO:+0100
TZNAME:CET
DTSTART:20251026T010000
END:STANDARD
BEGIN:DAYLIGHT
TZOFFSETFROM:+0100
TZOFFSETTO:+0200
TZNAME:CEST
DTSTART:20260329T010000
END:DAYLIGHT
BEGIN:STANDARD
TZOFFSETFROM:+0200
TZOFFSETTO:+0100
TZNAME:CET
DTSTART:20261025T010000
END:STANDARD
END:VTIMEZONE
BEGIN:VEVENT
DTSTART;TZID=Europe/Berlin:20250803T100000
DTEND;TZID=Europe/Berlin:20250803T190000
DTSTAMP:20260421T025354
CREATED:20250610T101802Z
LAST-MODIFIED:20250610T101802Z
UID:6689-1754215200-1754247600@tauchteam-karlsruhe.de
SUMMARY:Rettungsdienst
DESCRIPTION:
URL:https://tauchteam-karlsruhe.de/event/rettungsdienst/
LOCATION:Heidesee Forst\, Am Heidesee 1\, Forst\, 76694\, Deutschland
END:VEVENT
BEGIN:VEVENT
DTSTART;TZID=Europe/Berlin:20250807T180000
DTEND;TZID=Europe/Berlin:20250807T200000
DTSTAMP:20260421T025354
CREATED:20250801T135933Z
LAST-MODIFIED:20250801T140148Z
UID:6698-1754589600-1754596800@tauchteam-karlsruhe.de
SUMMARY:Freiwassertraining
DESCRIPTION:Trainer: Tessa
URL:https://tauchteam-karlsruhe.de/event/6698/
CATEGORIES:Training
END:VEVENT
BEGIN:VEVENT
DTSTART;TZID=Europe/Berlin:20250810T100000
DTEND;TZID=Europe/Berlin:20250810T140000
DTSTAMP:20260421T025354
CREATED:20241222T092232Z
LAST-MODIFIED:20250731T173042Z
UID:6565-1754820000-1754834400@tauchteam-karlsruhe.de
SUMMARY:Jubiläum
DESCRIPTION:
URL:https://tauchteam-karlsruhe.de/event/jubilaeum/
LOCATION:Mittelgrund Leopoldshafen\, Im Scheidgrund\, Eggenstein-Leopoldshafen\, 76344\, Deutschland
CATEGORIES:Event
END:VEVENT
BEGIN:VEVENT
DTSTART;TZID=Europe/Berlin:20250810T100000
DTEND;TZID=Europe/Berlin:20250810T140000
DTSTAMP:20260421T025354
CREATED:20251219T131310Z
LAST-MODIFIED:20251219T131310Z
UID:6980-1754820000-1754834400@tauchteam-karlsruhe.de
SUMMARY:Jubiläum Tauchteam Karlsruhe e.V.
DESCRIPTION:Jubiläum Tauchteam Karlsruhe e.V.
URL:https://tauchteam-karlsruhe.de/event/jubilaeum-tauchteam-karlsruhe-e-v/
CATEGORIES:Event
END:VEVENT
BEGIN:VEVENT
DTSTART;TZID=Europe/Berlin:20250821T180000
DTEND;TZID=Europe/Berlin:20250821T200000
DTSTAMP:20260421T025354
CREATED:20250801T140250Z
LAST-MODIFIED:20250801T140250Z
UID:6702-1755799200-1755806400@tauchteam-karlsruhe.de
SUMMARY:Freiwassertraining
DESCRIPTION:Trainer: Ralf
URL:https://tauchteam-karlsruhe.de/event/freiwassertraining/
CATEGORIES:Training
END:VEVENT
BEGIN:VEVENT
DTSTART;TZID=Europe/Berlin:20250827T000000
DTEND;TZID=Europe/Berlin:20250830T000000
DTSTAMP:20260421T025354
CREATED:20241222T092509Z
LAST-MODIFIED:20250725T080022Z
UID:6567-1756252800-1756512000@tauchteam-karlsruhe.de
SUMMARY:kleine Clubfahrt Kulkwitzer See
DESCRIPTION:
URL:https://tauchteam-karlsruhe.de/event/flusstauchen-tauchen-traun-oesterreich/
LOCATION:Kulkwitzser See Camping\, Seestr. 1\, Leipzig\, 04207\, Germany
CATEGORIES:Event
END:VEVENT
END:VCALENDAR