BEGIN:VCALENDAR
VERSION:2.0
PRODID:-//Tauchteam Karlsruhe e.V. - ECPv6.15.20//NONSGML v1.0//EN
CALSCALE:GREGORIAN
METHOD:PUBLISH
X-ORIGINAL-URL:https://tauchteam-karlsruhe.de
X-WR-CALDESC:Veranstaltungen für Tauchteam Karlsruhe e.V.
REFRESH-INTERVAL;VALUE=DURATION:PT1H
X-Robots-Tag:noindex
X-PUBLISHED-TTL:PT1H
BEGIN:VTIMEZONE
TZID:Europe/Berlin
BEGIN:DAYLIGHT
TZOFFSETFROM:+0100
TZOFFSETTO:+0200
TZNAME:CEST
DTSTART:20240331T010000
END:DAYLIGHT
BEGIN:STANDARD
TZOFFSETFROM:+0200
TZOFFSETTO:+0100
TZNAME:CET
DTSTART:20241027T010000
END:STANDARD
BEGIN:DAYLIGHT
TZOFFSETFROM:+0100
TZOFFSETTO:+0200
TZNAME:CEST
DTSTART:20250330T010000
END:DAYLIGHT
BEGIN:STANDARD
TZOFFSETFROM:+0200
TZOFFSETTO:+0100
TZNAME:CET
DTSTART:20251026T010000
END:STANDARD
BEGIN:DAYLIGHT
TZOFFSETFROM:+0100
TZOFFSETTO:+0200
TZNAME:CEST
DTSTART:20260329T010000
END:DAYLIGHT
BEGIN:STANDARD
TZOFFSETFROM:+0200
TZOFFSETTO:+0100
TZNAME:CET
DTSTART:20261025T010000
END:STANDARD
END:VTIMEZONE
BEGIN:VEVENT
DTSTART;TZID=Europe/Berlin:20250904T180000
DTEND;TZID=Europe/Berlin:20250904T200000
DTSTAMP:20260420T235412
CREATED:20250801T140359Z
LAST-MODIFIED:20250801T140359Z
UID:6704-1757008800-1757016000@tauchteam-karlsruhe.de
SUMMARY:Freiwassertraining
DESCRIPTION:Trainer: Christian
URL:https://tauchteam-karlsruhe.de/event/freiwassertraining-2/
CATEGORIES:Training
END:VEVENT
BEGIN:VEVENT
DTSTART;TZID=Europe/Berlin:20250911T180000
DTEND;TZID=Europe/Berlin:20250911T200000
DTSTAMP:20260420T235412
CREATED:20250801T140626Z
LAST-MODIFIED:20250801T140818Z
UID:6706-1757613600-1757620800@tauchteam-karlsruhe.de
SUMMARY:Freiwassertraining
DESCRIPTION:Trainer: Jochen
URL:https://tauchteam-karlsruhe.de/event/freiwassertraining-3/
CATEGORIES:Training
END:VEVENT
END:VCALENDAR