BEGIN:VCALENDAR
VERSION:2.0
PRODID:-//Tauchteam Karlsruhe e.V. - ECPv6.15.20//NONSGML v1.0//EN
CALSCALE:GREGORIAN
METHOD:PUBLISH
X-ORIGINAL-URL:https://tauchteam-karlsruhe.de
X-WR-CALDESC:Veranstaltungen für Tauchteam Karlsruhe e.V.
REFRESH-INTERVAL;VALUE=DURATION:PT1H
X-Robots-Tag:noindex
X-PUBLISHED-TTL:PT1H
BEGIN:VTIMEZONE
TZID:Europe/Berlin
BEGIN:DAYLIGHT
TZOFFSETFROM:+0100
TZOFFSETTO:+0200
TZNAME:CEST
DTSTART:20250330T010000
END:DAYLIGHT
BEGIN:STANDARD
TZOFFSETFROM:+0200
TZOFFSETTO:+0100
TZNAME:CET
DTSTART:20251026T010000
END:STANDARD
BEGIN:DAYLIGHT
TZOFFSETFROM:+0100
TZOFFSETTO:+0200
TZNAME:CEST
DTSTART:20260329T010000
END:DAYLIGHT
BEGIN:STANDARD
TZOFFSETFROM:+0200
TZOFFSETTO:+0100
TZNAME:CET
DTSTART:20261025T010000
END:STANDARD
BEGIN:DAYLIGHT
TZOFFSETFROM:+0100
TZOFFSETTO:+0200
TZNAME:CEST
DTSTART:20270328T010000
END:DAYLIGHT
BEGIN:STANDARD
TZOFFSETFROM:+0200
TZOFFSETTO:+0100
TZNAME:CET
DTSTART:20271031T010000
END:STANDARD
END:VTIMEZONE
BEGIN:VEVENT
DTSTART;TZID=Europe/Berlin:20260702T193000
DTEND;TZID=Europe/Berlin:20260702T203000
DTSTAMP:20260420T174056
CREATED:20251219T123846Z
LAST-MODIFIED:20251219T123846Z
UID:6925-1783020600-1783024200@tauchteam-karlsruhe.de
SUMMARY:Schwimmbadtraining / Cabriobecken
DESCRIPTION:Treffpunkt 15 min vor Trainingsbeginn vor dem Fächerbad. \nTrainer: Tessa
URL:https://tauchteam-karlsruhe.de/event/schwimmbadtraining-cabriobecken-21/
LOCATION:Fächerbad Karlsruhe\, Am Fächerbad 5\, Karlsruhe\, 76131\, Deutschland
CATEGORIES:Training
END:VEVENT
BEGIN:VEVENT
DTSTART;TZID=Europe/Berlin:20260709T193000
DTEND;TZID=Europe/Berlin:20260709T203000
DTSTAMP:20260420T174056
CREATED:20251219T123926Z
LAST-MODIFIED:20251219T123926Z
UID:6927-1783625400-1783629000@tauchteam-karlsruhe.de
SUMMARY:Schwimmbadtraining / Cabriobecken
DESCRIPTION:Treffpunkt 15 min vor Trainingsbeginn vor dem Fächerbad. \nTrainer: Ralf
URL:https://tauchteam-karlsruhe.de/event/schwimmbadtraining-cabriobecken-22/
LOCATION:Fächerbad Karlsruhe\, Am Fächerbad 5\, Karlsruhe\, 76131\, Deutschland
CATEGORIES:Training
END:VEVENT
BEGIN:VEVENT
DTSTART;TZID=Europe/Berlin:20260716T193000
DTEND;TZID=Europe/Berlin:20260716T203000
DTSTAMP:20260420T174056
CREATED:20251219T123959Z
LAST-MODIFIED:20251219T123959Z
UID:6929-1784230200-1784233800@tauchteam-karlsruhe.de
SUMMARY:Schwimmbadtraining / Cabriobecken
DESCRIPTION:Treffpunkt 15 min vor Trainingsbeginn vor dem Fächerbad. \nTrainer: Christian
URL:https://tauchteam-karlsruhe.de/event/schwimmbadtraining-cabriobecken-23/
LOCATION:Fächerbad Karlsruhe\, Am Fächerbad 5\, Karlsruhe\, 76131\, Deutschland
CATEGORIES:Training
END:VEVENT
BEGIN:VEVENT
DTSTART;TZID=Europe/Berlin:20260718T170000
DTEND;TZID=Europe/Berlin:20260718T230000
DTSTAMP:20260420T174056
CREATED:20251219T130323Z
LAST-MODIFIED:20251219T130419Z
UID:6970-1784394000-1784415600@tauchteam-karlsruhe.de
SUMMARY:Grillfest
DESCRIPTION:Grillfest Tauchteam Karlsruhe e.V. \nbei Freia & Christian
URL:https://tauchteam-karlsruhe.de/event/grillfest-2/
LOCATION:Freia & Christian Hilpke\, Kantstr. 15\, Wörth\, 76744\, Germany
CATEGORIES:Event
END:VEVENT
BEGIN:VEVENT
DTSTART;TZID=Europe/Berlin:20260723T193000
DTEND;TZID=Europe/Berlin:20260723T203000
DTSTAMP:20260420T174056
CREATED:20251219T124035Z
LAST-MODIFIED:20251219T124035Z
UID:6931-1784835000-1784838600@tauchteam-karlsruhe.de
SUMMARY:Schwimmbadtraining / Cabriobecken
DESCRIPTION:Treffpunkt 15 min vor Trainingsbeginn vor dem Fächerbad. \nTrainer: Ralf
URL:https://tauchteam-karlsruhe.de/event/schwimmbadtraining-cabriobecken-24/
LOCATION:Fächerbad Karlsruhe\, Am Fächerbad 5\, Karlsruhe\, 76131\, Deutschland
CATEGORIES:Training
END:VEVENT
END:VCALENDAR